BEGIN:VCALENDAR
VERSION:2.0
PRODID:-//pretix//pretix.eu//
BEGIN:VTIMEZONE
TZID:Europe/Berlin
BEGIN:STANDARD
DTSTART:20001029T040000
RRULE:FREQ=YEARLY;BYDAY=-1SU;BYMONTH=10
TZNAME:CET
TZOFFSETFROM:+0200
TZOFFSETTO:+0100
END:STANDARD
BEGIN:DAYLIGHT
DTSTART:20000326T030000
RRULE:FREQ=YEARLY;BYDAY=-1SU;BYMONTH=3
TZNAME:CEST
TZOFFSETFROM:+0100
TZOFFSETTO:+0200
END:DAYLIGHT
END:VTIMEZONE
BEGIN:VEVENT
UID:pretix-fcguetersloh-fu-cguetersloh-fcschalke04-4633743@fcguetersloh.ver
 einsticket.de
DTSTART;TZID=Europe/Berlin:20250712T140000
DTEND;TZID=Europe/Berlin:20250712T155000
DESCRIPTION:Tickets: https://fcguetersloh.vereinsticket.de/fu-cguetersloh-f
 cschalke04/4633743/\nEinlass: 12.07.2025 13:00\nVeranstalter: FC Güterslo
 h
DTSTAMP:20260422T135906Z
LOCATION:Ohlendorf Stadion im Heidewald\, Stadion\, Heidewaldstraße 27\, 3
 3332 Gütersloh
SUMMARY:Testspiel FC Gütersloh -  VfL Osnabrück
END:VEVENT
END:VCALENDAR
